BEGIN:VCALENDAR
VERSION:2.0
PRODID:-//Sabre//Sabre VObject 4.5.8//EN
CALSCALE:GREGORIAN
BEGIN:VEVENT
UID:sabre-vobject-6812c914-17ab-496e-88da-038e774f58b9
DTSTAMP:20260423T034916Z
SUMMARY:Rosenkranz
DESCRIPTION:https://pfarreien-bistum-augsburg.df-preview.de/rosenkranz_id17
 45166
DTSTART;TZID=Europe/Berlin:20260529T150000
DURATION:PT30M
LOCATION:St. Peter
END:VEVENT
END:VCALENDAR
