BEGIN:VCALENDAR
VERSION:2.0
PRODID:-//Sabre//Sabre VObject 4.5.8//EN
CALSCALE:GREGORIAN
BEGIN:VEVENT
UID:sabre-vobject-212311af-8178-4992-849a-72e3f39179b6
DTSTAMP:20260423T170337Z
SUMMARY:Gebetsgemeinschaft
DESCRIPTION:https://pfarreien-bistum-augsburg.df-preview.de/gebetsgemeinsch
 aft_id1745157
DTSTART;TZID=Europe/Berlin:20260526T090000
DURATION:PT30M
LOCATION:St. Peter
END:VEVENT
END:VCALENDAR
