BEGIN:VCALENDAR
VERSION:2.0
PRODID:-//Sabre//Sabre VObject 4.5.8//EN
CALSCALE:GREGORIAN
BEGIN:VEVENT
UID:sabre-vobject-eb990201-81ac-4890-acef-1e11c169cec6
DTSTAMP:20260424T120408Z
SUMMARY:Heilige Messe - Wir beten auch für unsere Geburtstags-Jubilare (Ma
 i).
DESCRIPTION:https://pfarreien-bistum-augsburg.df-preview.de/heilige-messe-w
 ir-beten-auch-fuer-unsere-geburtstags-jubilare-mai_id1745041
DTSTART;TZID=Europe/Berlin:20260531T083000
DURATION:PT30M
LOCATION:Mariä Himmelfahrt
END:VEVENT
END:VCALENDAR
