BEGIN:VCALENDAR
VERSION:2.0
PRODID:-//Sabre//Sabre VObject 4.5.8//EN
CALSCALE:GREGORIAN
BEGIN:VEVENT
UID:sabre-vobject-bd2bd406-d886-456b-8a63-e01fc5b0becf
DTSTAMP:20260423T021647Z
SUMMARY:Letzte feierliche Maiandacht
DESCRIPTION:https://pfarreien-bistum-augsburg.df-preview.de/letzte-feierlic
 he-maiandacht_id1745026
DTSTART;TZID=Europe/Berlin:20260531T190000
DURATION:PT30M
LOCATION:St. Peter
END:VEVENT
END:VCALENDAR
