BEGIN:VCALENDAR
VERSION:2.0
PRODID:-//Sabre//Sabre VObject 4.5.8//EN
CALSCALE:GREGORIAN
BEGIN:VEVENT
UID:sabre-vobject-fc1412af-c9a9-487a-976e-d72655d7cdea
DTSTAMP:20260424T144439Z
SUMMARY:Trauung Manuel Rabenstein und Nadine Braun
DESCRIPTION:https://pfarreien-bistum-augsburg.df-preview.de/trauung-manuel-
 rabenstein-und-nadine-braun_id1744998
DTSTART;TZID=Europe/Berlin:20260425T130000
DURATION:PT30M
LOCATION:St. Martin\, Kirchplatz 3\, 86701 Rohrenfels
END:VEVENT
END:VCALENDAR
