BEGIN:VCALENDAR
VERSION:2.0
PRODID:-//Sabre//Sabre VObject 4.5.8//EN
CALSCALE:GREGORIAN
BEGIN:VEVENT
UID:sabre-vobject-973ef035-89b3-4355-8302-dd84f33e5535
DTSTAMP:20260423T112234Z
SUMMARY:Stille Anbetung
DESCRIPTION:https://pfarreien-bistum-augsburg.df-preview.de/stille-anbetung
 _id1744994
DTSTART;TZID=Europe/Berlin:20260430T090000
DURATION:PT30M
LOCATION:Mariä Himmelfahrt\, Monheimer Straße 113\, 86633 Bittenbrunn
END:VEVENT
END:VCALENDAR
