BEGIN:VCALENDAR
VERSION:2.0
PRODID:-//Sabre//Sabre VObject 4.5.8//EN
CALSCALE:GREGORIAN
BEGIN:VEVENT
UID:sabre-vobject-665f4505-ae5b-48fb-9c7c-37747b96e597
DTSTAMP:20260424T121049Z
SUMMARY:FEIER DER ERSTKOMMUNION
DESCRIPTION:https://pfarreien-bistum-augsburg.df-preview.de/feier-der-erstk
 ommunion_id1744936
DTSTART;TZID=Europe/Berlin:20260425T103000
DURATION:PT30M
LOCATION:Heilig Geist
END:VEVENT
END:VCALENDAR
