BEGIN:VCALENDAR
VERSION:2.0
PRODID:-//Sabre//Sabre VObject 4.5.8//EN
CALSCALE:GREGORIAN
BEGIN:VEVENT
UID:sabre-vobject-185b6e09-e511-4cb9-907a-7a3655430648
DTSTAMP:20260424T215102Z
SUMMARY:Taufe von Eleonore Sophie Hermann
DESCRIPTION:https://pfarreien-bistum-augsburg.df-preview.de/taufe-von-eleon
 ore-sophie-hermann_id1744870
DTSTART;TZID=Europe/Berlin:20260503T113000
DURATION:PT30M
LOCATION:St. Martin\, Kirchplatz 3\, 86701 Rohrenfels
END:VEVENT
END:VCALENDAR
