BEGIN:VCALENDAR
VERSION:2.0
PRODID:-//Sabre//Sabre VObject 4.5.8//EN
CALSCALE:GREGORIAN
BEGIN:VEVENT
UID:sabre-vobject-978f3bc6-27a1-41aa-b139-0464eef5c5fe
DTSTAMP:20260425T014629Z
SUMMARY:Vorabendmesse
DESCRIPTION:https://pfarreien-bistum-augsburg.df-preview.de/vorabendmesse_i
 d1744860
DTSTART;TZID=Europe/Berlin:20260502T163000
DURATION:PT30M
LOCATION:St. Martin\, Kirchplatz 3\, 86701 Rohrenfels
END:VEVENT
END:VCALENDAR
