BEGIN:VCALENDAR
VERSION:2.0
PRODID:-//Sabre//Sabre VObject 4.5.8//EN
CALSCALE:GREGORIAN
BEGIN:VEVENT
UID:sabre-vobject-a52babe6-56df-49e1-8e3a-75ee0d216666
DTSTAMP:20260424T024129Z
SUMMARY:Heilige Messe
DESCRIPTION:https://pfarreien-bistum-augsburg.df-preview.de/heilige-messe_i
 d1744843
DTSTART;TZID=Europe/Berlin:20260502T083000
DURATION:PT30M
LOCATION:St. Peter
END:VEVENT
END:VCALENDAR
