BEGIN:VCALENDAR
VERSION:2.0
PRODID:-//Sabre//Sabre VObject 4.5.8//EN
CALSCALE:GREGORIAN
BEGIN:VEVENT
UID:sabre-vobject-80e88c66-14b2-4d92-9810-00b5fbce1a35
DTSTAMP:20260421T121102Z
SUMMARY:Ros. u. Bg.
DESCRIPTION:https://pfarreien-bistum-augsburg.df-preview.de/ros-u-bg_id1744
 836
DTSTART;TZID=Europe/Berlin:20260425T172500
DURATION:PT30M
LOCATION:Mariä Himmelfahrt
END:VEVENT
END:VCALENDAR
