BEGIN:VCALENDAR
VERSION:2.0
PRODID:-//Sabre//Sabre VObject 4.5.8//EN
CALSCALE:GREGORIAN
BEGIN:VEVENT
UID:sabre-vobject-bc55b654-7c79-4b15-a3af-6f8780feb406
DTSTAMP:20260420T195124Z
SUMMARY:M
DESCRIPTION:https://pfarreien-bistum-augsburg.df-preview.de/m_id1744835
DTSTART;TZID=Europe/Berlin:20260424T090000
DURATION:PT30M
LOCATION:Mariä Himmelfahrt
END:VEVENT
END:VCALENDAR
