BEGIN:VCALENDAR
VERSION:2.0
PRODID:-//Sabre//Sabre VObject 4.5.8//EN
CALSCALE:GREGORIAN
BEGIN:VEVENT
UID:sabre-vobject-d892836a-ba35-495f-b0b4-993dfc9d97b1
DTSTAMP:20260424T100947Z
SUMMARY:Hl.Messe in der Krankenhauskapelle
DESCRIPTION:https://pfarreien-bistum-augsburg.df-preview.de/hl-messe-in-der
 -krankenhauskapelle_id1744801
DTSTART;TZID=Europe/Berlin:20260512T190000
DURATION:PT30M
LOCATION:St. Felizitas
END:VEVENT
END:VCALENDAR
