BEGIN:VCALENDAR
VERSION:2.0
PRODID:-//Sabre//Sabre VObject 4.5.8//EN
CALSCALE:GREGORIAN
BEGIN:VEVENT
UID:sabre-vobject-6f4705f9-9373-4010-84d3-be7f4c8a7877
DTSTAMP:20260423T100516Z
SUMMARY:Pfarrgottesdienst (für die Lebenden und Verstorbenen der Pfarrei)
DESCRIPTION:https://pfarreien-bistum-augsburg.df-preview.de/pfarrgottesdien
 st-fuer-die-lebenden-und-verstorbenen-der-pfarrei_id1744755
DTSTART;TZID=Europe/Berlin:20260509T180000
DURATION:PT30M
LOCATION:St. Vitus
END:VEVENT
END:VCALENDAR
