BEGIN:VCALENDAR
VERSION:2.0
PRODID:-//Sabre//Sabre VObject 4.5.8//EN
CALSCALE:GREGORIAN
BEGIN:VEVENT
UID:sabre-vobject-02f02be6-19a0-4f77-a641-1f7eba3d5831
DTSTAMP:20260421T223807Z
SUMMARY:Familiengottesdienst zum Patrozinium (musikalische Gestaltung Famil
 ienchor)
DESCRIPTION:https://pfarreien-bistum-augsburg.df-preview.de/familiengottesd
 ienst-zum-patrozinium-musikalische-gestaltung-familienchor_id1744722
DTSTART;TZID=Europe/Berlin:20260501T093000
DURATION:PT30M
LOCATION:Patrona Bavariae\, Obere Hauptstraße 20\, 87782 Unteregg
END:VEVENT
END:VCALENDAR
