BEGIN:VCALENDAR
VERSION:2.0
PRODID:-//Sabre//Sabre VObject 4.5.8//EN
CALSCALE:GREGORIAN
BEGIN:VEVENT
UID:sabre-vobject-76b1f135-5ec8-4b7d-8a4b-f2a7545559d4
DTSTAMP:20260423T090829Z
SUMMARY:Hl. Messe mit Laudes
DESCRIPTION:https://pfarreien-bistum-augsburg.df-preview.de/hl-messe-mit-la
 udes_id1744678
DTSTART;TZID=Europe/Berlin:20260505T070000
DURATION:PT30M
LOCATION:St. Michael\, Kirchpl. \, 86415 Mering
END:VEVENT
END:VCALENDAR
