BEGIN:VCALENDAR
VERSION:2.0
PRODID:-//Sabre//Sabre VObject 4.5.8//EN
CALSCALE:GREGORIAN
BEGIN:VEVENT
UID:sabre-vobject-b868891a-641e-460d-b67c-43b21db2ad40
DTSTAMP:20260421T231435Z
SUMMARY:Hl. Messe mit Laudes
DESCRIPTION:https://pfarreien-bistum-augsburg.df-preview.de/hl-messe-mit-la
 udes_id1744613
DTSTART;TZID=Europe/Berlin:20260502T070000
DURATION:PT30M
LOCATION:St. Michael\, Kirchpl. \, 86415 Mering
END:VEVENT
END:VCALENDAR
