BEGIN:VCALENDAR
VERSION:2.0
PRODID:-//Sabre//Sabre VObject 4.5.8//EN
CALSCALE:GREGORIAN
BEGIN:VEVENT
UID:sabre-vobject-c1391555-bf09-4254-82fb-d7da6d47823d
DTSTAMP:20260421T063853Z
SUMMARY:Pfarrgottesdienst
DESCRIPTION:https://pfarreien-bistum-augsburg.df-preview.de/pfarrgottesdien
 st_id1744609
DTSTART;TZID=Europe/Berlin:20260418T190000
DURATION:PT30M
LOCATION:St. Otmar
END:VEVENT
END:VCALENDAR
