BEGIN:VCALENDAR
VERSION:2.0
PRODID:-//Sabre//Sabre VObject 4.5.8//EN
CALSCALE:GREGORIAN
BEGIN:VEVENT
UID:sabre-vobject-1f3d6a11-dcf5-49dd-a5c3-aa2ca08ded49
DTSTAMP:20260421T172452Z
SUMMARY:Probe für die EK-Kinder aus \nIchenhausen\, Hochwang und Deubach i
 n der Stadtpfarrkirche
DESCRIPTION:https://pfarreien-bistum-augsburg.df-preview.de/probe-fuer-die-
 ek-kinder-aus-ichenhausen-hochwang-und-deubach-in-der-stadtpfarrkirche_id1
 744581
DTSTART;TZID=Europe/Berlin:20260418T140000
DURATION:PT30M
LOCATION:St. Johannes Baptist
END:VEVENT
END:VCALENDAR
