BEGIN:VCALENDAR
VERSION:2.0
PRODID:-//Sabre//Sabre VObject 4.5.8//EN
CALSCALE:GREGORIAN
BEGIN:VEVENT
UID:sabre-vobject-b49a880e-5f87-4d07-a640-0f9c919e8831
DTSTAMP:20260420T195124Z
SUMMARY:Probe der Erstkommunionkinder
DESCRIPTION:https://pfarreien-bistum-augsburg.df-preview.de/probe-der-erstk
 ommunionkinder_id1744556
DTSTART;TZID=Europe/Berlin:20260425T140000
DURATION:PT30M
LOCATION:St. Joseph
END:VEVENT
END:VCALENDAR
