BEGIN:VCALENDAR
VERSION:2.0
PRODID:-//Sabre//Sabre VObject 4.5.8//EN
CALSCALE:GREGORIAN
BEGIN:VEVENT
UID:sabre-vobject-cc7b0bc0-a4d3-4af0-9f77-d62a1b21cdb4
DTSTAMP:20260420T184641Z
SUMMARY:Rosenkranz für die Kranken in unserer Pfarrei
DESCRIPTION:https://pfarreien-bistum-augsburg.df-preview.de/rosenkranz-fuer
 -die-kranken-in-unserer-pfarrei_id1744552
DTSTART;TZID=Europe/Berlin:20260422T081500
DURATION:PT30M
LOCATION:St. Joseph
END:VEVENT
END:VCALENDAR
