BEGIN:VCALENDAR
VERSION:2.0
PRODID:-//Sabre//Sabre VObject 4.5.8//EN
CALSCALE:GREGORIAN
BEGIN:VEVENT
UID:sabre-vobject-9e9ab7ae-9a4b-41c0-9fcc-c611abc773fd
DTSTAMP:20260421T223148Z
SUMMARY:Rosenkranz um Priester und Ordensberufe
DESCRIPTION:https://pfarreien-bistum-augsburg.df-preview.de/rosenkranz-um-p
 riester-und-ordensberufe_id1744540
DTSTART;TZID=Europe/Berlin:20260427T080000
DURATION:PT30M
LOCATION:St. Wolfgang
END:VEVENT
END:VCALENDAR
