BEGIN:VCALENDAR
VERSION:2.0
PRODID:-//Sabre//Sabre VObject 4.5.8//EN
CALSCALE:GREGORIAN
BEGIN:VEVENT
UID:sabre-vobject-b88825cc-b4b8-4e1b-b0b0-60fe2248088e
DTSTAMP:20260422T111325Z
SUMMARY:Pilgermesse in den Anliegen der Pilger\;
DESCRIPTION:https://pfarreien-bistum-augsburg.df-preview.de/pilgermesse-in-
 den-anliegen-der-pilger_id1744513
DTSTART;TZID=Europe/Berlin:20260422T101500
DURATION:PT30M
LOCATION:Wallfahrtsdirektion Mariä Schmerzen
END:VEVENT
END:VCALENDAR
