BEGIN:VCALENDAR
VERSION:2.0
PRODID:-//Sabre//Sabre VObject 4.5.8//EN
CALSCALE:GREGORIAN
BEGIN:VEVENT
UID:sabre-vobject-29a2a676-7604-4bd7-85de-d2bb6f438bef
DTSTAMP:20260420T164519Z
SUMMARY:Dankandacht mit Opfergabe der Erstkommunionkinder
DESCRIPTION:https://pfarreien-bistum-augsburg.df-preview.de/dankandacht-mit
 -opfergabe-der-erstkommunionkinder_id1744502
DTSTART;TZID=Europe/Berlin:20260419T170000
DURATION:PT30M
LOCATION:St. Afra
END:VEVENT
END:VCALENDAR
