BEGIN:VCALENDAR
VERSION:2.0
PRODID:-//Sabre//Sabre VObject 4.5.8//EN
CALSCALE:GREGORIAN
BEGIN:VEVENT
UID:sabre-vobject-2abc1546-64a6-4f62-bb65-681e8d369c1f
DTSTAMP:20260420T132142Z
SUMMARY:Vorabendmesse zum Hochfest Maria Schutzfrau von Bayern
DESCRIPTION:https://pfarreien-bistum-augsburg.df-preview.de/vorabendmesse-z
 um-hochfest-maria-schutzfrau-von-bayern_id1744499
DTSTART;TZID=Europe/Berlin:20260430T191500
DURATION:PT30M
LOCATION:St. Nikolaus
END:VEVENT
END:VCALENDAR
