BEGIN:VCALENDAR
VERSION:2.0
PRODID:-//Sabre//Sabre VObject 4.5.8//EN
CALSCALE:GREGORIAN
BEGIN:VEVENT
UID:sabre-vobject-838fe81f-fff0-41b0-985c-80f52af1cd9f
DTSTAMP:20260423T014137Z
SUMMARY:Pilgeramt für die lebenden u. verstorbenen Wohltäter der Wallfahr
 t
DESCRIPTION:https://pfarreien-bistum-augsburg.df-preview.de/pilgeramt-fuer-
 die-lebenden-u-verstorbenen-wohltaeter-der-wallfahrt_id1744456
DTSTART;TZID=Europe/Berlin:20260419T101500
DURATION:PT30M
LOCATION:Wallfahrtsdirektion Mariä Schmerzen
END:VEVENT
END:VCALENDAR
