BEGIN:VCALENDAR
VERSION:2.0
PRODID:-//Sabre//Sabre VObject 4.5.8//EN
CALSCALE:GREGORIAN
BEGIN:VEVENT
UID:sabre-vobject-9dc17209-b80f-4828-bcfc-0413988a6814
DTSTAMP:20260421T183611Z
SUMMARY:Wallfahrtsgottesdienst aus Mindelzell
DESCRIPTION:https://pfarreien-bistum-augsburg.df-preview.de/wallfahrtsgotte
 sdienst-aus-mindelzell_id1744435
DTSTART;TZID=Europe/Berlin:20260425T090000
DURATION:PT30M
LOCATION:Mariä Himmelfahrt
END:VEVENT
END:VCALENDAR
