BEGIN:VCALENDAR
VERSION:2.0
PRODID:-//Sabre//Sabre VObject 4.5.8//EN
CALSCALE:GREGORIAN
BEGIN:VEVENT
UID:sabre-vobject-35be453d-8eb5-4aef-86cf-a67ee548270a
DTSTAMP:20260421T060539Z
SUMMARY:Pfarrgottesdienst \nFür die Lebenden und Verstorbenen der Pfarrei
DESCRIPTION:https://pfarreien-bistum-augsburg.df-preview.de/pfarrgottesdien
 st-fuer-die-lebenden-und-verstorbenen-der-pfarrei_id1744380
DTSTART;TZID=Europe/Berlin:20260419T093000
DURATION:PT30M
LOCATION:St. Blasius
END:VEVENT
END:VCALENDAR
