BEGIN:VCALENDAR
VERSION:2.0
PRODID:-//Sabre//Sabre VObject 4.5.8//EN
CALSCALE:GREGORIAN
BEGIN:VEVENT
UID:sabre-vobject-d3294202-6657-4ca5-9ddd-6bafd30e597d
DTSTAMP:20260425T131422Z
SUMMARY:Mairosenkranz
DESCRIPTION:https://pfarreien-bistum-augsburg.df-preview.de/mairosenkranz_i
 d1744335
DTSTART;TZID=Europe/Berlin:20260520T180000
DURATION:PT30M
LOCATION:Mariä Himmelfahrt
END:VEVENT
END:VCALENDAR
