BEGIN:VCALENDAR
VERSION:2.0
PRODID:-//Sabre//Sabre VObject 4.5.8//EN
CALSCALE:GREGORIAN
BEGIN:VEVENT
UID:sabre-vobject-634c8317-5e98-4f4d-91f2-6f0c7f375026
DTSTAMP:20260420T165949Z
SUMMARY:Hl. Messopfer
DESCRIPTION:https://pfarreien-bistum-augsburg.df-preview.de/hl-messopfer_id
 1744306
DTSTART;TZID=Europe/Berlin:20260415T073000
DURATION:PT30M
LOCATION:Wallfahrtsdirektion Mariä Schmerzen
END:VEVENT
END:VCALENDAR
