BEGIN:VCALENDAR
VERSION:2.0
PRODID:-//Sabre//Sabre VObject 4.5.8//EN
CALSCALE:GREGORIAN
BEGIN:VEVENT
UID:sabre-vobject-a64210f0-0f2c-420e-9da6-32f50558202a
DTSTAMP:20260423T070600Z
SUMMARY:Vorabendmesse
DESCRIPTION:https://pfarreien-bistum-augsburg.df-preview.de/vorabendmesse_i
 d1744210
DTSTART;TZID=Europe/Berlin:20260530T191500
DURATION:PT30M
LOCATION:Kuratie St. Laurentius
END:VEVENT
END:VCALENDAR
