BEGIN:VCALENDAR
VERSION:2.0
PRODID:-//Sabre//Sabre VObject 4.5.8//EN
CALSCALE:GREGORIAN
BEGIN:VEVENT
UID:sabre-vobject-76924d18-8100-4339-bfc0-84b3fd2e50ae
DTSTAMP:20260423T115734Z
SUMMARY:Wallfahrtsgottesdienst Weinried i. Matzenhofen
DESCRIPTION:https://pfarreien-bistum-augsburg.df-preview.de/wallfahrtsgotte
 sdienst-weinried-i-matzenhofen_id1744208
DTSTART;TZID=Europe/Berlin:20260525T103000
DURATION:PT30M
LOCATION:Kuratie St. Laurentius
END:VEVENT
END:VCALENDAR
