BEGIN:VCALENDAR
VERSION:2.0
PRODID:-//Sabre//Sabre VObject 4.5.8//EN
CALSCALE:GREGORIAN
BEGIN:VEVENT
UID:sabre-vobject-d38eaa6f-97c3-47a4-9bc9-52de124548c1
DTSTAMP:20260421T000311Z
SUMMARY:Aufstellung zum Kirchenzug
DESCRIPTION:https://pfarreien-bistum-augsburg.df-preview.de/aufstellung-zum
 -kirchenzug_id1744193
DTSTART;TZID=Europe/Berlin:20260419T101500
DURATION:PT30M
LOCATION:St. Blasius
END:VEVENT
END:VCALENDAR
