BEGIN:VCALENDAR
VERSION:2.0
PRODID:-//Sabre//Sabre VObject 4.5.8//EN
CALSCALE:GREGORIAN
BEGIN:VEVENT
UID:sabre-vobject-874d2ad6-a837-4027-b630-f2a7416221eb
DTSTAMP:20260421T013411Z
SUMMARY:St. Wendelin: Rosenkranz
DESCRIPTION:https://pfarreien-bistum-augsburg.df-preview.de/st-wendelin-ros
 enkranz_id1744192
DTSTART;TZID=Europe/Berlin:20260418T193000
DURATION:PT30M
LOCATION:St. Blasius
END:VEVENT
END:VCALENDAR
