BEGIN:VCALENDAR
VERSION:2.0
PRODID:-//Sabre//Sabre VObject 4.5.8//EN
CALSCALE:GREGORIAN
BEGIN:VEVENT
UID:sabre-vobject-1b9923ae-6756-4d15-a188-0d707de2838d
DTSTAMP:20260421T025837Z
SUMMARY:Sonntagvorabendmesse
DESCRIPTION:https://pfarreien-bistum-augsburg.df-preview.de/sonntagvorabend
 messe_id1744191
DTSTART;TZID=Europe/Berlin:20260418T190000
DURATION:PT30M
LOCATION:St. Blasius
END:VEVENT
END:VCALENDAR
