BEGIN:VCALENDAR
VERSION:2.0
PRODID:-//Sabre//Sabre VObject 4.5.8//EN
CALSCALE:GREGORIAN
BEGIN:VEVENT
UID:sabre-vobject-948e66fd-8f76-4879-a30f-a46b9e68a20e
DTSTAMP:20260424T053714Z
SUMMARY:Heilige Messe
DESCRIPTION:https://pfarreien-bistum-augsburg.df-preview.de/heilige-messe_i
 d1744186
DTSTART;TZID=Europe/Berlin:20260523T191500
DURATION:PT30M
LOCATION:Kuratie St. Sebastian\, Egnishausen 27\, 87727 Egg an der Günz
END:VEVENT
END:VCALENDAR
