BEGIN:VCALENDAR
VERSION:2.0
PRODID:-//Sabre//Sabre VObject 4.5.8//EN
CALSCALE:GREGORIAN
BEGIN:VEVENT
UID:sabre-vobject-fdd1cc7d-6307-49cb-b1e0-f8db416c6415
DTSTAMP:20260424T204631Z
SUMMARY:Heilige Messe u.f.H. Marienkapelle Flüssen
DESCRIPTION:https://pfarreien-bistum-augsburg.df-preview.de/heilige-messe-u
 -f-h-marienkapelle-fluessen_id1744166
DTSTART;TZID=Europe/Berlin:20260506T180000
DURATION:PT30M
LOCATION:St. Vitus
END:VEVENT
END:VCALENDAR
