BEGIN:VCALENDAR
VERSION:2.0
PRODID:-//Sabre//Sabre VObject 4.5.8//EN
CALSCALE:GREGORIAN
BEGIN:VEVENT
UID:sabre-vobject-9009b63d-60b8-4e1a-b1d5-2e77a1580ff3
DTSTAMP:20260424T081038Z
SUMMARY:Maiandacht mit Schola
DESCRIPTION:https://pfarreien-bistum-augsburg.df-preview.de/maiandacht-mit-
 schola_id1744147
DTSTART;TZID=Europe/Berlin:20260510T190000
DURATION:PT30M
LOCATION:Kuratie St. Laurentius
END:VEVENT
END:VCALENDAR
