BEGIN:VCALENDAR
VERSION:2.0
PRODID:-//Sabre//Sabre VObject 4.5.8//EN
CALSCALE:GREGORIAN
BEGIN:VEVENT
UID:sabre-vobject-02d6eb08-22b3-4780-b005-7e4f74b77802
DTSTAMP:20260422T073320Z
SUMMARY:Rosenkranz
DESCRIPTION:https://pfarreien-bistum-augsburg.df-preview.de/rosenkranz_id17
 44142
DTSTART;TZID=Europe/Berlin:20260503T093000
DURATION:PT30M
LOCATION:Kuratie St. Laurentius
END:VEVENT
END:VCALENDAR
