BEGIN:VCALENDAR
VERSION:2.0
PRODID:-//Sabre//Sabre VObject 4.5.8//EN
CALSCALE:GREGORIAN
BEGIN:VEVENT
UID:sabre-vobject-d506c742-49aa-4ccb-801a-38c630ced085
DTSTAMP:20260421T062119Z
SUMMARY:Taufe
DESCRIPTION:https://pfarreien-bistum-augsburg.df-preview.de/taufe_id1744108
DTSTART;TZID=Europe/Berlin:20260419T113000
DURATION:PT30M
LOCATION:Christkönig
END:VEVENT
END:VCALENDAR
