BEGIN:VCALENDAR
VERSION:2.0
PRODID:-//Sabre//Sabre VObject 4.5.8//EN
CALSCALE:GREGORIAN
BEGIN:VEVENT
UID:sabre-vobject-1d7c0181-00a0-4ebb-b84e-af29986fbec7
DTSTAMP:20260421T014232Z
SUMMARY:Kinder-Wort-Gottes-Feier
DESCRIPTION:https://pfarreien-bistum-augsburg.df-preview.de/kinder-wort-got
 tes-feier_id1744107
DTSTART;TZID=Europe/Berlin:20260419T103000
DURATION:PT30M
LOCATION:Christkönig
END:VEVENT
END:VCALENDAR
