BEGIN:VCALENDAR
VERSION:2.0
PRODID:-//Sabre//Sabre VObject 4.5.8//EN
CALSCALE:GREGORIAN
BEGIN:VEVENT
UID:sabre-vobject-9899d571-c31a-4966-a6e7-2168e9fe337a
DTSTAMP:20260420T122201Z
SUMMARY:Eucharistiefeier
DESCRIPTION:https://pfarreien-bistum-augsburg.df-preview.de/eucharistiefeie
 r_id1744103
DTSTART;TZID=Europe/Berlin:20260419T090000
DURATION:PT30M
LOCATION:Christkönig
END:VEVENT
END:VCALENDAR
