BEGIN:VCALENDAR
VERSION:2.0
PRODID:-//Sabre//Sabre VObject 4.5.8//EN
CALSCALE:GREGORIAN
BEGIN:VEVENT
UID:sabre-vobject-f17ebd69-0bad-4378-9cce-09c2f7896ebc
DTSTAMP:20260423T085351Z
SUMMARY:Kapelle Tronetshofen: Gebet zur Sterbestunde Jesu und Barmherzigkei
 tsrosenkranz
DESCRIPTION:https://pfarreien-bistum-augsburg.df-preview.de/kapelle-tronets
 hofen-gebet-zur-sterbestunde-jesu-und-barmherzigkeitsrosenkranz_id1744018
DTSTART;TZID=Europe/Berlin:20260424T150000
DURATION:PT30M
LOCATION:St. Vitus
END:VEVENT
END:VCALENDAR
