BEGIN:VCALENDAR
VERSION:2.0
PRODID:-//Sabre//Sabre VObject 4.5.8//EN
CALSCALE:GREGORIAN
BEGIN:VEVENT
UID:sabre-vobject-f5d788f1-caae-42de-8a46-6021753e717e
DTSTAMP:20260421T205459Z
SUMMARY:Maiandacht der Frauengruppe an der Grotte\, anschl. Kaffee u. Kuche
 n im Pfarrhof
DESCRIPTION:https://pfarreien-bistum-augsburg.df-preview.de/maiandacht-der-
 frauengruppe-an-der-grotte-anschl-kaffee-u-kuchen-im-pfarrhof_id1744008
DTSTART;TZID=Europe/Berlin:20260503T140000
DURATION:PT30M
LOCATION:Mariä Himmelfahrt
END:VEVENT
END:VCALENDAR
