BEGIN:VCALENDAR
VERSION:2.0
PRODID:-//Sabre//Sabre VObject 4.5.8//EN
CALSCALE:GREGORIAN
BEGIN:VEVENT
UID:sabre-vobject-bae757c3-c617-4260-9666-f9e578709958
DTSTAMP:20260421T211841Z
SUMMARY:- 10.15 Uhr Krabbelgruppe im Saal HSH
DESCRIPTION:https://pfarreien-bistum-augsburg.df-preview.de/10-15-uhr-krabb
 elgruppe-im-saal-hsh_id1743675
DTSTART;TZID=Europe/Berlin:20260428T090000
DURATION:PT30M
LOCATION:St. Johannes Baptist
END:VEVENT
END:VCALENDAR
