BEGIN:VCALENDAR
VERSION:2.0
PRODID:-//Sabre//Sabre VObject 4.5.8//EN
CALSCALE:GREGORIAN
BEGIN:VEVENT
UID:sabre-vobject-6ff9c78a-9daf-4526-adf5-51d6fd68c0e8
DTSTAMP:20260420T122145Z
SUMMARY:Taufe
DESCRIPTION:https://pfarreien-bistum-augsburg.df-preview.de/taufe_id1743674
DTSTART;TZID=Europe/Berlin:20260418T140000
DURATION:PT30M
LOCATION:Christkönig
END:VEVENT
END:VCALENDAR
