BEGIN:VCALENDAR
VERSION:2.0
PRODID:-//Sabre//Sabre VObject 4.5.8//EN
CALSCALE:GREGORIAN
BEGIN:VEVENT
UID:sabre-vobject-d1556ba6-8ad2-48e1-ad55-2a29fb3a87f2
DTSTAMP:20260421T044000Z
SUMMARY:Eucharistiefeier
DESCRIPTION:https://pfarreien-bistum-augsburg.df-preview.de/eucharistiefeie
 r_id1743657
DTSTART;TZID=Europe/Berlin:20260421T180000
DURATION:PT30M
LOCATION:Christkönig
END:VEVENT
END:VCALENDAR
