BEGIN:VCALENDAR
VERSION:2.0
PRODID:-//Sabre//Sabre VObject 4.5.8//EN
CALSCALE:GREGORIAN
BEGIN:VEVENT
UID:sabre-vobject-cf2efa70-cb81-4aba-8470-bbca892ab7f4
DTSTAMP:20260423T104318Z
SUMMARY:Wort-Gottes-Feier
DESCRIPTION:https://pfarreien-bistum-augsburg.df-preview.de/wort-gottes-fei
 er_id1743655
DTSTART;TZID=Europe/Berlin:20260423T163000
DURATION:PT30M
LOCATION:Christkönig
END:VEVENT
END:VCALENDAR
