BEGIN:VCALENDAR
VERSION:2.0
PRODID:-//Sabre//Sabre VObject 4.5.8//EN
CALSCALE:GREGORIAN
BEGIN:VEVENT
UID:sabre-vobject-7c2d65e2-30a8-4d24-8875-b547e84dcd1d
DTSTAMP:20260422T013758Z
SUMMARY:Beichtgelegenheit
DESCRIPTION:https://pfarreien-bistum-augsburg.df-preview.de/beichtgelegenhe
 it_id1743640
DTSTART;TZID=Europe/Berlin:20260425T170000
DURATION:PT30M
LOCATION:Christkönig
END:VEVENT
END:VCALENDAR
