BEGIN:VCALENDAR
VERSION:2.0
PRODID:-//Sabre//Sabre VObject 4.5.8//EN
CALSCALE:GREGORIAN
BEGIN:VEVENT
UID:sabre-vobject-e84f0832-4472-41be-b3e9-39fc636405ca
DTSTAMP:20260424T203710Z
SUMMARY:- 11.00 Uhr Krabbelgruppe im Kirchenraum des Gemeindehauses
DESCRIPTION:https://pfarreien-bistum-augsburg.df-preview.de/11-00-uhr-krabb
 elgruppe-im-kirchenraum-des-gemeindehauses_id1743617
DTSTART;TZID=Europe/Berlin:20260429T093000
DURATION:PT30M
LOCATION:St. Katharina
END:VEVENT
END:VCALENDAR
